BEGIN:VCALENDAR
VERSION:2.0
PRODID:-//Napa County Democrats - ECPv5.1.6//NONSGML v1.0//EN
CALSCALE:GREGORIAN
METHOD:PUBLISH
X-WR-CALNAME:Napa County Democrats
X-ORIGINAL-URL:http://napadems.org/home
X-WR-CALDESC:Events for Napa County Democrats
BEGIN:VTIMEZONE
TZID:America/Los_Angeles
BEGIN:DAYLIGHT
TZOFFSETFROM:-0800
TZOFFSETTO:-0700
TZNAME:PDT
DTSTART:20240310T100000
END:DAYLIGHT
BEGIN:STANDARD
TZOFFSETFROM:-0700
TZOFFSETTO:-0800
TZNAME:PST
DTSTART:20241103T090000
END:STANDARD
END:VTIMEZONE
BEGIN:VEVENT
DTSTART;TZID=America/Los_Angeles:20240408T180000
DTEND;TZID=America/Los_Angeles:20240408T190000
DTSTAMP:20260417T032653
CREATED:20240330T002038Z
LAST-MODIFIED:20240330T002038Z
UID:892-1712599200-1712602800@napadems.org
SUMMARY:April NCDCC meeting
DESCRIPTION:Napa County Democratic Central Committee meets Second Monday\, by Zoom\, 6 p.m. \nFor more information\, email ncdcc15@gmail.com
URL:http://napadems.org/home/event/april-ncdcc-meeting/
LOCATION:Zoom
END:VEVENT
END:VCALENDAR