BEGIN:VCALENDAR
VERSION:2.0
PRODID:-//Napa County Democrats - ECPv5.1.6//NONSGML v1.0//EN
CALSCALE:GREGORIAN
METHOD:PUBLISH
X-WR-CALNAME:Napa County Democrats
X-ORIGINAL-URL:http://napadems.org/home
X-WR-CALDESC:Events for Napa County Democrats
BEGIN:VTIMEZONE
TZID:America/Los_Angeles
BEGIN:DAYLIGHT
TZOFFSETFROM:-0800
TZOFFSETTO:-0700
TZNAME:PDT
DTSTART:20240310T100000
END:DAYLIGHT
BEGIN:STANDARD
TZOFFSETFROM:-0700
TZOFFSETTO:-0800
TZNAME:PST
DTSTART:20241103T090000
END:STANDARD
END:VTIMEZONE
BEGIN:VEVENT
DTSTART;TZID=America/Los_Angeles:20240326T173000
DTEND;TZID=America/Los_Angeles:20240326T183000
DTSTAMP:20260417T031322
CREATED:20240227T002912Z
LAST-MODIFIED:20240227T002919Z
UID:858-1711474200-1711477800@napadems.org
SUMMARY:Napa Co. Dem. CC Ex Com
DESCRIPTION:Executive Committee meets 4th Tuesday\, by Zoom\, 5:30 pm
URL:http://napadems.org/home/event/napa-co-dem-cc-ex-com/
LOCATION:Zoom
END:VEVENT
END:VCALENDAR